BEGIN:VCALENDAR
VERSION:2.0
PRODID:-//KGV Walkenriede e.V. - ECPv6.15.20//NONSGML v1.0//EN
CALSCALE:GREGORIAN
METHOD:PUBLISH
X-ORIGINAL-URL:https://kgv-walkenriede.de
X-WR-CALDESC:Veranstaltungen für KGV Walkenriede e.V.
REFRESH-INTERVAL;VALUE=DURATION:PT1H
X-Robots-Tag:noindex
X-PUBLISHED-TTL:PT1H
BEGIN:VTIMEZONE
TZID:Europe/Berlin
BEGIN:DAYLIGHT
TZOFFSETFROM:+0100
TZOFFSETTO:+0200
TZNAME:CEST
DTSTART:20250330T010000
END:DAYLIGHT
BEGIN:STANDARD
TZOFFSETFROM:+0200
TZOFFSETTO:+0100
TZNAME:CET
DTSTART:20251026T010000
END:STANDARD
BEGIN:DAYLIGHT
TZOFFSETFROM:+0100
TZOFFSETTO:+0200
TZNAME:CEST
DTSTART:20260329T010000
END:DAYLIGHT
BEGIN:STANDARD
TZOFFSETFROM:+0200
TZOFFSETTO:+0100
TZNAME:CET
DTSTART:20261025T010000
END:STANDARD
BEGIN:DAYLIGHT
TZOFFSETFROM:+0100
TZOFFSETTO:+0200
TZNAME:CEST
DTSTART:20270328T010000
END:DAYLIGHT
BEGIN:STANDARD
TZOFFSETFROM:+0200
TZOFFSETTO:+0100
TZNAME:CET
DTSTART:20271031T010000
END:STANDARD
END:VTIMEZONE
BEGIN:VEVENT
DTSTART;TZID=Europe/Berlin:20260405T100000
DTEND;TZID=Europe/Berlin:20260405T140000
DTSTAMP:20260422T161931
CREATED:20260308T152655Z
LAST-MODIFIED:20260308T152705Z
UID:1030-1775383200-1775397600@kgv-walkenriede.de
SUMMARY:Hendrik´s Frühschoppen
DESCRIPTION:Das Original ist zurück – und wir freuen uns sehr darüber!\nMit großer Freude können wir verkünden\, dass Hendrik pünktlich zu Ostern wieder mit\nseinem beliebten Frühschoppen startet.\nStart: 5. April 2026\nUhrzeit: ab 10:00 Uhr\nOrt: Vereinshaus\nUnd das Beste: Der Frühschoppen findet anschließend jeden ersten Sonntag im Monat\nstatt.\nLasst uns gemeinsam für einen gelungenen Auftakt sorgen und den Start gebührend\nfeiern. Kommt vorbei\, bringt gute Laune mit und verbringt ein paar gesellige Stunden\nmiteinander.\nSelbstverständlich sind auch Gäste und Freunde aus anderen Kolonien herzlich\nwillkommen – je mehr\, desto schöner!\nHendrik freut sich auf euren Besuch.
URL:https://kgv-walkenriede.de/event/hendriks-fruehschoppen/
LOCATION:Vereinshaus KGV Walkenriede e.V.\, Büttnerstr. 71 F\, Hannover\, 30165
CATEGORIES:Geselligkeit
ORGANIZER;CN="KGV Walkenriede e.V.":MAILTO:Festausschuss.kgv-walkenriede@web.de
END:VEVENT
END:VCALENDAR